BEGIN:VCALENDAR
VERSION:2.0
PRODID:-//eventon.com NONSGML v1.0//EN
CALSCALE:GREGORIAN
METHOD:PUBLISH
BEGIN:VEVENT
UID:69e5a33f6b8cf
DTSTAMP:20260420T055335
DTSTART:20221029T160000Z
DTEND:20221030T015000Z
TZID:Europe/Paris
LOCATION:
SUMMARY:CAFÉ MORTEL
DESCRIPTION:Pour l'arrivée de la Toussaint\,  nous vous proposons une animation sur un type de deuil particulier : celui de son animal de compagnie. Venez partager ce moment avec nous\,  pour échanger sur le départ et l'absence de nos amis à quatre pattes\,  à plumes ou à écailles. &nbsp; Télécharger le[..]\nhttps://lesterresdeletre.fr/events/cafe-mortel/
URL:https://lesterresdeletre.fr/events/cafe-mortel/
END:VEVENT
END:VCALENDAR