BEGIN:VCALENDAR
VERSION:2.0
PRODID:-//eventon.com NONSGML v1.0//EN
CALSCALE:GREGORIAN
METHOD:PUBLISH
BEGIN:VEVENT
UID:69e8b6f2a0c94
DTSTAMP:20260422T135426
DTSTART:20260715T140000Z
DTEND:20260715T190000Z
TZID:Europe/Paris
LOCATION:
SUMMARY:Atelier sylvothérapie - les arbres guérisseurs
DESCRIPTION:La sylvothérapie est une pratique ancestrale\,  qui fait partie de la naturopathie\,  qui est là pour prévenir et rééquilibrer l'organisme au niveau mental\,  au niveau émotionnel et au niveau physique La médecine de la forêt nous invite à nous rapprocher de la nature\,  de son harmonie\,  afin de nous reconnecter[..]\nhttps://lesterresdeletre.fr/events/atelier-sylvotherapie-les-arbres-guerisseurs-4/
URL:https://lesterresdeletre.fr/events/atelier-sylvotherapie-les-arbres-guerisseurs-4/
END:VEVENT
END:VCALENDAR