BEGIN:VCALENDAR
VERSION:2.0
PRODID:-//eventon.com NONSGML v1.0//EN
CALSCALE:GREGORIAN
METHOD:PUBLISH
BEGIN:VEVENT
UID:69e8b6d2ae0b4
DTSTAMP:20260422T135354
DTSTART:20260819T143000Z
DTEND:20260819T183000Z
TZID:Europe/Paris
LOCATION:
SUMMARY:Immersion avec les chevaux
DESCRIPTION:IMMERSION AVEC LES CHEVAUX EN LIBERTE - SPÉCIAL ADOLESCENTS - Laisser faire la magie des chevaux... Ici les ados découvrent le cheval dans son essence et apprennent à créer un lien magique avec cet animal\,  à pied. &nbsp; Les bienfaits physiques et mentaux que la simple présence des chevaux offre\, [..]\nhttps://lesterresdeletre.fr/events/immersion-avec-les-chevaux-copy/
URL:https://lesterresdeletre.fr/events/immersion-avec-les-chevaux-copy/
END:VEVENT
END:VCALENDAR