BEGIN:VCALENDAR
VERSION:2.0
PRODID:-//eventon.com NONSGML v1.0//EN
CALSCALE:GREGORIAN
METHOD:PUBLISH
BEGIN:VEVENT
UID:69e8b6898ffc0
DTSTAMP:20260422T135241
DTSTART:20260904T170000Z
DTEND:20260904T210000Z
TZID:Europe/Paris
LOCATION:
SUMMARY:A la rencontre des chevaux messagers et médiateurs
DESCRIPTION:Laisser faire la magie des chevaux... Laissez-vous surprendre par les sensations émotionnelles et corporelles que procure la présence d’un cheval. Laissez percevoir en vous\,  les discernements et compréhensions que vous enseigne la sagesse de cet animal guérisseur. Ici aux Terres de l'Être vous ne rencontrez pas de chevaux de loisir.[..]\nhttps://lesterresdeletre.fr/events/a-la-rencontre-des-chevaux-messagers-et-mediateurs-12/
URL:https://lesterresdeletre.fr/events/a-la-rencontre-des-chevaux-messagers-et-mediateurs-12/
END:VEVENT
END:VCALENDAR