BEGIN:VCALENDAR
VERSION:2.0
PRODID:-//eventon.com NONSGML v1.0//EN
CALSCALE:GREGORIAN
METHOD:PUBLISH
BEGIN:VEVENT
UID:69e8b67b20042
DTSTAMP:20260422T135227
DTSTART:20260703T170000Z
DTEND:20260703T210000Z
TZID:Europe/Paris
LOCATION:
SUMMARY:A la rencontre des chevaux messagers et médiateurs
DESCRIPTION:Laisser faire la magie des chevaux... Laissez-vous surprendre par les sensations émotionnelles et corporelles que procure la présence d’un cheval. Laissez percevoir en vous\,  les discernements et compréhensions que vous enseigne la sagesse de cet animal guérisseur. Ici aux Terres de l'Être vous ne rencontrez pas de chevaux de loisir.[..]\nhttps://lesterresdeletre.fr/events/a-la-rencontre-des-chevaux-messagers-et-mediateurs-10/
URL:https://lesterresdeletre.fr/events/a-la-rencontre-des-chevaux-messagers-et-mediateurs-10/
END:VEVENT
END:VCALENDAR