BEGIN:VCALENDAR
VERSION:2.0
PRODID:-//eventon.com NONSGML v1.0//EN
CALSCALE:GREGORIAN
METHOD:PUBLISH
BEGIN:VEVENT
UID:69e8b6dd74761
DTSTAMP:20260422T135405
DTSTART:20260615T190000Z
DTEND:20260615T223000Z
TZID:Europe/Paris
LOCATION:
SUMMARY:Danse libre et intuitive
DESCRIPTION:Atelier dansé sur une vague musicale inspirée de la danse des 5 rythmes créée par Gabrielle Roth. Une voie de transformation par le mouvement. Approche des cinq rythmes universels – fluide\,  staccato\,  chaos\,  lyrique et quiétude – qui ouvrent chacun une porte sur un univers d’une grande richesse. Vous pourrez[..]\nhttps://lesterresdeletre.fr/events/danse-libre-et-intuitive-12/
URL:https://lesterresdeletre.fr/events/danse-libre-et-intuitive-12/
END:VEVENT
END:VCALENDAR