BEGIN:VCALENDAR
VERSION:2.0
PRODID:-//eventon.com NONSGML v1.0//EN
CALSCALE:GREGORIAN
METHOD:PUBLISH
BEGIN:VEVENT
UID:69e8b67b1e204
DTSTAMP:20260422T135227
DTSTART:20260802T150000Z
DTEND:20260802T190000Z
TZID:Europe/Paris
LOCATION:
SUMMARY:Chants amérindiens avec les chevaux
DESCRIPTION:Cercle de chants amérindiens au cœur du troupeau des chevaux d'Arion. Venez vivre le chant du cœur. Que vous sachiez chanter ou pas\,  vous êtes les bienvenus à ce cercle. Nous nous connecterons aux vibrations ancestrales des chants-médecine amérindiens. Entre mantra\,  transe et méditation\,  l'expérience de ces chants sacrés amène[..]\nhttps://lesterresdeletre.fr/events/chants-amerindiens-avec-les-chevaux-14/
URL:https://lesterresdeletre.fr/events/chants-amerindiens-avec-les-chevaux-14/
END:VEVENT
END:VCALENDAR