BEGIN:VCALENDAR
VERSION:2.0
PRODID:-//eventon.com NONSGML v1.0//EN
CALSCALE:GREGORIAN
METHOD:PUBLISH
BEGIN:VEVENT
UID:69e8b6436f26b
DTSTAMP:20260422T135131
DTSTART:20260929T190000Z
DTEND:20260929T230000Z
TZID:Europe/Paris
LOCATION:
SUMMARY:Cercle d'hommes - cercle découverte
DESCRIPTION:Découverte et ouverture du cycle "tout homme naît deux fois" - cercles d'hommes. L'énergie du cercle permet l'ouverture d'un espace sacré. Et protégé. Où l'on peut s'abandonner. Se laisser porter. Une vraie manière de renaître à soi avec le soutien et l'aide de frères en chemin. On vient pour Soi.[..]\nhttps://lesterresdeletre.fr/events/cercle-dhommes-cercle-decouverte-5/
URL:https://lesterresdeletre.fr/events/cercle-dhommes-cercle-decouverte-5/
END:VEVENT
END:VCALENDAR