BEGIN:VCALENDAR
VERSION:2.0
PRODID:-//eventon.com NONSGML v1.0//EN
CALSCALE:GREGORIAN
METHOD:PUBLISH
BEGIN:VEVENT
UID:69e8b6d78bd68
DTSTAMP:20260422T135359
DTSTART:20260510T100000Z
DTEND:20260510T140000Z
TZID:Europe/Paris
LOCATION:
SUMMARY:Le café des amis
DESCRIPTION:Café associatif proposé par La Voix du Cœur. L'association\,  proposant des activités nature et ludique sur les sujets du monde animal\,  minéral\,  végétal et humain principalement sur l'écolieu les Terres de l'Être; ouvre son café de village tous les deuxièmes dimanches du mois ! L'écolieu étant situé en plein centre[..]\nhttps://lesterresdeletre.fr/events/cafe-de-village-20/
URL:https://lesterresdeletre.fr/events/cafe-de-village-20/
END:VEVENT
END:VCALENDAR