BEGIN:VCALENDAR
VERSION:2.0
PRODID:-//eventon.com NONSGML v1.0//EN
CALSCALE:GREGORIAN
METHOD:PUBLISH
BEGIN:VEVENT
UID:69e8b6f1948aa
DTSTAMP:20260422T135425
DTSTART:20260828T180000Z
DTEND:20260830T193000Z
TZID:Europe/Paris
LOCATION:
SUMMARY:Initiation Voie de la Madeleine / Voie du Graal
DESCRIPTION:L’initiation complète de la voie de la Madeleine  est un parcours de plusieurs mois avec des temps forts sur 3WE initiatiques et 3 cercles. Sachez que cette initiation initialement réservée aux femmes pour entrer en profondeur dans le chemin des Madeleines vient de s’ouvrir aux hommes aussi\,  pour entrer eux[..]\nhttps://lesterresdeletre.fr/events/initiation-voie-de-la-madeleine-voie-du-graal-2/
URL:https://lesterresdeletre.fr/events/initiation-voie-de-la-madeleine-voie-du-graal-2/
END:VEVENT
END:VCALENDAR