BEGIN:VCALENDAR
VERSION:2.0
PRODID:-//eventon.com NONSGML v1.0//EN
CALSCALE:GREGORIAN
METHOD:PUBLISH
BEGIN:VEVENT
UID:69e8b72178ea2
DTSTAMP:20260422T135513
DTSTART:20260801T180000Z
DTEND:20260802T120000Z
TZID:UTC
LOCATION:
SUMMARY:Cérémonie du feu sacré - Lugnasad - veillée de nuit
DESCRIPTION:Réservé aux  ami(e)s des Terres de l'Être (vous pouvez venir accompagné d'un.e. invitée.e). Gratuit - en offrande pour la Terre Tous les 1ers du mois - toute l'année et toute météo (hors canicule et interdiction de feu) Spécial Lugnasad: veillée du feu toute la nuit Venir avec un peu de[..]\nhttps://lesterresdeletre.fr/events/ceremonie-du-feu-sacre-lugnasad-veillee-de-nuit/
URL:https://lesterresdeletre.fr/events/ceremonie-du-feu-sacre-lugnasad-veillee-de-nuit/
END:VEVENT
END:VCALENDAR