BEGIN:VCALENDAR
VERSION:2.0
PRODID:-//eventon.com NONSGML v1.0//EN
CALSCALE:GREGORIAN
METHOD:PUBLISH
BEGIN:VEVENT
UID:69e8b67cb1c9d
DTSTAMP:20260422T135228
DTSTART:20260701T180000Z
DTEND:20260701T200000Z
TZID:UTC
LOCATION:
SUMMARY:Cérémonie du feu sacré
DESCRIPTION:Réservé aux  ami(e)s des Terres de l'Être (vous pouvez venir accompagné d'un.e. invitée.e). Gratuit - en offrande pour la Terre Tous les 1ers du mois - toute l'année et toute météo (hors canicule et interdiction de feu) Venir avec un peu de bois\,  un grignotage léger à partager\,  tenue de[..]\nhttps://lesterresdeletre.fr/events/ceremonie-du-feu-sacre-21/
URL:https://lesterresdeletre.fr/events/ceremonie-du-feu-sacre-21/
END:VEVENT
END:VCALENDAR