BEGIN:VCALENDAR
VERSION:2.0
PRODID:-//eventon.com NONSGML v1.0//EN
CALSCALE:GREGORIAN
METHOD:PUBLISH
BEGIN:VEVENT
UID:69e8b6d203125
DTSTAMP:20260422T135354
DTSTART:20260601T180000Z
DTEND:20260601T200000Z
TZID:UTC
LOCATION:
SUMMARY:Cérémonie du feu sacré
DESCRIPTION:Réservé aux  ami(e)s des Terres de l'Être (vous pouvez venir accompagné d'un.e. invitée.e). Gratuit - en offrande pour la Terre Tous les 1ers du mois - toute l'année et toute météo (hors canicule et interdiction de feu) Venir avec un peu de bois\,  un grignotage léger à partager\,  tenue de[..]\nhttps://lesterresdeletre.fr/events/ceremonie-du-feu-sacre-20/
URL:https://lesterresdeletre.fr/events/ceremonie-du-feu-sacre-20/
END:VEVENT
END:VCALENDAR