BEGIN:VCALENDAR
VERSION:2.0
PRODID:-//eventon.com NONSGML v1.0//EN
CALSCALE:GREGORIAN
METHOD:PUBLISH
BEGIN:VEVENT
UID:69e8b643ef75b
DTSTAMP:20260422T135131
DTSTART:20260525T100000Z
DTEND:20260525T235000Z
TZID:UTC
LOCATION:
SUMMARY:Grand cercle de la Rose
DESCRIPTION:🌹 le rêve apparu en 2025 est de cocréer avec vous "le plus grand cercle de la Rose" 🌹 Après une 1ere édition le 9 juin 2025\,  nous remettons ce rendez vous à nouveau en 2026! L'enjeu est d'être le plus nombreux et nombreuses possibles à se retrouver ensemble\,  mains[..]\nhttps://lesterresdeletre.fr/events/grand-cercle-de-la-rose-2/
URL:https://lesterresdeletre.fr/events/grand-cercle-de-la-rose-2/
END:VEVENT
END:VCALENDAR