BEGIN:VCALENDAR
VERSION:2.0
PRODID:-//eventon.com NONSGML v1.0//EN
CALSCALE:GREGORIAN
METHOD:PUBLISH
BEGIN:VEVENT
UID:69e8b6ddb1b52
DTSTAMP:20260422T135405
DTSTART:20260705T120000Z
DTEND:20260705T180000Z
TZID:Europe/Paris
LOCATION:
SUMMARY:Picnic des ami(e)s
DESCRIPTION:Invitation à tous les amis et amies des Terres de l'Être! On apporte son panier pour un picnic partagé\,  une couverture au sol\,  une pause dans le jardin sensoriel... agrémenté d'un temps de récolte au jardin médicinal\,  et repartez chez vous avec un peu de sariette\,  de menthe poivrée\,  de[..]\nhttps://lesterresdeletre.fr/events/picnic-des-amies-3/
URL:https://lesterresdeletre.fr/events/picnic-des-amies-3/
END:VEVENT
END:VCALENDAR